BEGIN:VCALENDAR
VERSION:2.0
PRODID:-//AVR - ECPv4.6.26//NONSGML v1.0//EN
CALSCALE:GREGORIAN
METHOD:PUBLISH
X-WR-CALNAME:AVR
X-ORIGINAL-URL:https://avrnetwork.com
X-WR-CALDESC:Events for AVR
BEGIN:VEVENT
DTSTART;TZID=America/Halifax:20190529T080000
DTEND;TZID=America/Halifax:20190603T170000
DTSTAMP:20260422T102058
CREATED:20190311T183610Z
LAST-MODIFIED:20190311T183620Z
UID:5847-1559116800-1559581200@avrnetwork.com
SUMMARY:Apple Blossom Festival
DESCRIPTION:May 29th – June 3rd\nFind everything Apple Blossom here! \n
URL:https://avrnetwork.com/event/apple-blossom-festival-3/
END:VEVENT
BEGIN:VEVENT
DTSTART;VALUE=DATE:20190531
DTEND;VALUE=DATE:20190601
DTSTAMP:20260422T102058
CREATED:20190524T160747Z
LAST-MODIFIED:20190524T160747Z
UID:6273-1559260800-1559347199@avrnetwork.com
SUMMARY:Charity Car Wash & BBQ
DESCRIPTION:The AVR Misfits are hosting a charity car wash and BBQ\, 11 til 3 at the New Minas Fire Hall! Come out\, get your vehicle washed\, enjoy a Jimmie Dog hot off the grill\, and support Relay for Life! Special thanks to Meadowbrook Meat Market\, Jason’s; Your Independent Grocer Kentville\, and the New Minas Fire Department for their support in helping with the cause. We’ll see you Apple Blossom Friday with our AVR Charity Car Wash! \n
URL:https://avrnetwork.com/event/charity-car-wash-bbq-2/
END:VEVENT
END:VCALENDAR