BEGIN:VCALENDAR
VERSION:2.0
PRODID:-//AVR - ECPv4.6.26//NONSGML v1.0//EN
CALSCALE:GREGORIAN
METHOD:PUBLISH
X-WR-CALNAME:AVR
X-ORIGINAL-URL:https://avrnetwork.com
X-WR-CALDESC:Events for AVR
BEGIN:VEVENT
DTSTART;VALUE=DATE:20190424
DTEND;VALUE=DATE:20190425
DTSTAMP:20260424T153155
CREATED:20190311T183248Z
LAST-MODIFIED:20190311T183248Z
UID:5839-1556064000-1556150399@avrnetwork.com
SUMMARY:Administrative Professionals Day
DESCRIPTION:
URL:https://avrnetwork.com/event/administrative-professionals-day/
END:VEVENT
END:VCALENDAR