BEGIN:VCALENDAR
VERSION:2.0
PRODID:-//AVR - ECPv4.6.26//NONSGML v1.0//EN
CALSCALE:GREGORIAN
METHOD:PUBLISH
X-WR-CALNAME:AVR
X-ORIGINAL-URL:https://avrnetwork.com
X-WR-CALDESC:Events for AVR
BEGIN:VEVENT
DTSTART;TZID=America/Halifax:20180616T070000
DTEND;TZID=America/Halifax:20180617T160000
DTSTAMP:20260421T121741
CREATED:20180601T161837Z
LAST-MODIFIED:20180601T173415Z
UID:1365-1529132400-1529251200@avrnetwork.com
SUMMARY:Devil's Half Acre
DESCRIPTION:Devil’s Half Acre Motorcycle Event is ON…June 16th & 17th in Kentville!\nCheck out the full schedule & more here: https://devilshalfacremotorcyclerally.ca/ \n
URL:https://avrnetwork.com/event/devils-half-acre/
END:VEVENT
BEGIN:VEVENT
DTSTART;VALUE=DATE:20180617
DTEND;VALUE=DATE:20180618
DTSTAMP:20260421T121741
CREATED:20180530T191854Z
LAST-MODIFIED:20180530T191854Z
UID:1348-1529193600-1529279999@avrnetwork.com
SUMMARY:Happy Father's Day!
DESCRIPTION:
URL:https://avrnetwork.com/event/happy-fathers-day-2/
END:VEVENT
END:VCALENDAR