BEGIN:VCALENDAR
VERSION:2.0
PRODID:-//AVR - ECPv4.6.26//NONSGML v1.0//EN
CALSCALE:GREGORIAN
METHOD:PUBLISH
X-WR-CALNAME:AVR
X-ORIGINAL-URL:https://avrnetwork.com
X-WR-CALDESC:Events for AVR
BEGIN:VEVENT
DTSTART;TZID=America/Halifax:20170830T050000
DTEND;TZID=America/Halifax:20170903T200000
DTSTAMP:20260421T081732
CREATED:20170818T190936Z
LAST-MODIFIED:20170818T190936Z
UID:829-1504069200-1504468800@avrnetwork.com
SUMMARY:Wharf Rat Rally
DESCRIPTION:The 13th annual Wharf Rat Rally is underway Aug 30th to Sept 3rd! Check it out in Digby\, and check out the schedule and more here:\nhttp://www.wharfratrally.com/ \n
URL:https://avrnetwork.com/event/wharf-rat-rally/
END:VEVENT
END:VCALENDAR