BEGIN:VCALENDAR
VERSION:2.0
PRODID:-//AVR - ECPv4.6.26//NONSGML v1.0//EN
CALSCALE:GREGORIAN
METHOD:PUBLISH
X-WR-CALNAME:AVR
X-ORIGINAL-URL:https://avrnetwork.com
X-WR-CALDESC:Events for AVR
BEGIN:VEVENT
DTSTART;VALUE=DATE:20190222
DTEND;VALUE=DATE:20190223
DTSTAMP:20260421T094915
CREATED:20190130T144835Z
LAST-MODIFIED:20190130T144921Z
UID:5651-1550793600-1550879999@avrnetwork.com
SUMMARY:Take Me To Church FINALE!
DESCRIPTION:Someone will be winning an overnight trip to Toronto\, including airfare\, accomodations\, and 2 tickets to see Eric Church in concert\, Saturday March 9th\, 2019 at the Scotiabank Arena in Toronto! The BIG FINALE and draw takes place after 4:30 during the afternoon show with Scott! \n
URL:https://avrnetwork.com/event/take-me-to-church-finale/
END:VEVENT
END:VCALENDAR