BEGIN:VCALENDAR
VERSION:2.0
PRODID:-//AVR - ECPv4.6.26//NONSGML v1.0//EN
CALSCALE:GREGORIAN
METHOD:PUBLISH
X-WR-CALNAME:AVR
X-ORIGINAL-URL:https://avrnetwork.com
X-WR-CALDESC:Events for AVR
BEGIN:VEVENT
DTSTART;VALUE=DATE:20230726
DTEND;VALUE=DATE:20230728
DTSTAMP:20260421T111308
CREATED:20230713T124731Z
LAST-MODIFIED:20230713T124834Z
UID:11879-1690329600-1690502399@avrnetwork.com
SUMMARY:Swing Fore Healthcare
DESCRIPTION:Valley Regional Hospital Foundation is hitting the greens this month with Swing Fore Healthcare in support of Operation Enhancement! Join us for some fun on our beautiful Annapolis Valley courses July 26 and 27th for a Charity Men’s & Women’s Day. \nWe’re visiting Ken Wo\, Paragon\, Berwick Heights\, and Eagle Crest Golf Courses between July 19 – 28th\, on their regular Men’s & Women’s Day — if you see us\, stop by and say hi! Play a round of golf\, donate to the Foundation\, and be entered for a chance to win some great golf prizes. Last year over $5000 was raised with thanks to our golfing community. THANK YOU! \nNo preregistration required\, all members of the participating golf courses must book their tee times as per usual play. \nFor more info visit: https://www.vrhfoundation.ca/events/swing-fore-healthcare/ \n
URL:https://avrnetwork.com/event/swing-fore-healthcare/
ATTACH;FMTTYPE=image/jpeg:https://avrnetwork.com/wp-content/uploads/sites/13/2023/07/Golf-Day-2023-banner-—-all-courses.jpg
END:VEVENT
END:VCALENDAR