BEGIN:VCALENDAR
VERSION:2.0
PRODID:-//AVR - ECPv4.6.26//NONSGML v1.0//EN
CALSCALE:GREGORIAN
METHOD:PUBLISH
X-WR-CALNAME:AVR
X-ORIGINAL-URL:https://avrnetwork.com
X-WR-CALDESC:Events for AVR
BEGIN:VEVENT
DTSTART;VALUE=DATE:20260506
DTEND;VALUE=DATE:20260507
DTSTAMP:20260423T181903
CREATED:20260423T135614Z
LAST-MODIFIED:20260423T135614Z
UID:14293-1778025600-1778111999@avrnetwork.com
SUMMARY:McHappy Day
DESCRIPTION:Mark your calendars! McHappy Day is coming back on Wednesday\, May 6. \nOn McHappy Day\, your order is more than a meal\, it’s a chance to give back! McDonald’s Canada and its local\, independent franchisees will be donating a portion of the proceeds from all food and beverage menu items on May 6th towards Ronald McDonald House and other local children’s charities. \nThe funds raised on McHappy Day provide critical support for tens of thousands of families staying at Ronald McDonald House across Canada each year\, including right here in your community\, by providing access to accommodations\, meals\, mental health and wellness programming\, so they can stay together and focused on their child’s care. \nBy showing your support on McHappy Day\, you’re actively helping families right here in your community\, 1 in 4 Canadian families has either stayed at Ronald McDonald House or know someone who has. \n
URL:https://avrnetwork.com/event/mchappy-day-4/
ATTACH;FMTTYPE=image/jpeg:https://avrnetwork.com/wp-content/uploads/sites/13/2026/04/L33-26-NAT_APR_ENG_COS_CA_BANR_1024x768_Pre-Promote-OMDP_V1.jpg
END:VEVENT
END:VCALENDAR