BEGIN:VCALENDAR
VERSION:2.0
PRODID:-//AVR - ECPv4.6.26//NONSGML v1.0//EN
CALSCALE:GREGORIAN
METHOD:PUBLISH
X-WR-CALNAME:AVR
X-ORIGINAL-URL:https://avrnetwork.com
X-WR-CALDESC:Events for AVR
BEGIN:VEVENT
DTSTART;VALUE=DATE:20190712
DTEND;VALUE=DATE:20190715
DTSTAMP:20260421T045044
CREATED:20190626T140640Z
LAST-MODIFIED:20190626T140640Z
UID:6422-1562889600-1563148799@avrnetwork.com
SUMMARY:Kingston Steer BBQ
DESCRIPTION:For more on the Kingston Steer BBQ\, click here! \n
URL:https://avrnetwork.com/event/kingston-steer-bbq-2/
END:VEVENT
END:VCALENDAR