BEGIN:VCALENDAR
VERSION:2.0
PRODID:-//AVR - ECPv4.6.26//NONSGML v1.0//EN
CALSCALE:GREGORIAN
METHOD:PUBLISH
X-WR-CALNAME:AVR
X-ORIGINAL-URL:https://avrnetwork.com
X-WR-CALDESC:Events for AVR
BEGIN:VEVENT
DTSTART;TZID=America/Halifax:20170421T140000
DTEND;TZID=America/Halifax:20170423T130000
DTSTAMP:20260419T213551
CREATED:20170306T220230Z
LAST-MODIFIED:20170420T160111Z
UID:416-1492783200-1492952400@avrnetwork.com
SUMMARY:Kentville Home Show
DESCRIPTION:Kentville Home Show April 21-23\, 2017\n\nApril 21: 5:00pm-9:00pm\nApril 22: 9:00am-5:00pm\nApril 23: 12:00pm-4:00pm\n\nAdmission Prices:\n\nGeneral Admission: $5.00\nSeniors: $3.00\n12 & Under: Free\n\n  \nhttp://kentville.ca/events/kentville-home-show-2015/ \n
URL:https://avrnetwork.com/event/kentville-home-show/
LOCATION:Kentville Arena
END:VEVENT
END:VCALENDAR