BEGIN:VCALENDAR
VERSION:2.0
PRODID:-//AVR - ECPv4.6.26//NONSGML v1.0//EN
CALSCALE:GREGORIAN
METHOD:PUBLISH
X-WR-CALNAME:AVR
X-ORIGINAL-URL:https://avrnetwork.com
X-WR-CALDESC:Events for AVR
BEGIN:VEVENT
DTSTART;TZID=America/Halifax:20230207T120000
DTEND;TZID=America/Halifax:20230207T160000
DTSTAMP:20260426T012800
CREATED:20221221T153012Z
LAST-MODIFIED:20230110T153605Z
UID:11312-1675771200-1675785600@avrnetwork.com
SUMMARY:Garth Brooks Top 61 Countdown
DESCRIPTION:Garth Brooks turns 61 on February 7. \nWe are celebrating the birth of the best-selling solo artist of the 20th Century by counting down his top 61 songs. \n
URL:https://avrnetwork.com/event/garth-brooks-top-61-countdown/
ATTACH;FMTTYPE=image/jpeg:https://avrnetwork.com/wp-content/uploads/sites/13/2022/12/A-288409-1555825205-1067.jpg
END:VEVENT
END:VCALENDAR