BEGIN:VCALENDAR
VERSION:2.0
PRODID:-//AVR - ECPv4.6.26//NONSGML v1.0//EN
CALSCALE:GREGORIAN
METHOD:PUBLISH
X-WR-CALNAME:AVR
X-ORIGINAL-URL:https://avrnetwork.com
X-WR-CALDESC:Events for AVR
BEGIN:VEVENT
DTSTART;VALUE=DATE:20170203
DTEND;VALUE=DATE:20170206
DTSTAMP:20260423T082758
CREATED:20170209T194601Z
LAST-MODIFIED:20170209T194601Z
UID:248-1486152000-1486324799@avrnetwork.com
SUMMARY:Eagle Watch Weekend
DESCRIPTION:Where: Sheffield Mills \nWhen: Saturdays\, Sundays\, 2017-02-04 to 2017-02-05 \n
URL:https://avrnetwork.com/event/eagle-watch-weekend-2/
END:VEVENT
END:VCALENDAR