BEGIN:VCALENDAR
VERSION:2.0
PRODID:-//AVR - ECPv4.6.26//NONSGML v1.0//EN
CALSCALE:GREGORIAN
METHOD:PUBLISH
X-WR-CALNAME:AVR
X-ORIGINAL-URL:https://avrnetwork.com
X-WR-CALDESC:Events for AVR
BEGIN:VEVENT
DTSTART;VALUE=DATE:20170210
DTEND;VALUE=DATE:20170212
DTSTAMP:20260423T083113
CREATED:20170209T193750Z
LAST-MODIFIED:20170209T193750Z
UID:244-1486756800-1486843199@avrnetwork.com
SUMMARY:AVR Barn Dance
DESCRIPTION:Where: Old O Barn \nWhen: 9 til 1\, 2017-02-11 \nCome on out to the Old O Heritage Barn. Doors open @ 8pm. $10 at the door\, for those 19+ with valid ID. Dance the night away from 9pm til 1am with DJ Bryan of Mobile Music. Proceeds to the AVR Misfits Bowl Team in Big Brothers Big Sisters Bowl for Kids’ Sake Event. \n
URL:https://avrnetwork.com/event/avr-barn-dance/
END:VEVENT
END:VCALENDAR