BEGIN:VCALENDAR
VERSION:2.0
PRODID:-//AVR - ECPv4.6.26//NONSGML v1.0//EN
CALSCALE:GREGORIAN
METHOD:PUBLISH
X-WR-CALNAME:AVR
X-ORIGINAL-URL:https://avrnetwork.com
X-WR-CALDESC:Events for AVR
BEGIN:VEVENT
DTSTART;TZID=America/Halifax:20171126T130000
DTEND;TZID=America/Halifax:20171126T170000
DTSTAMP:20260424T132822
CREATED:20171102T181014Z
LAST-MODIFIED:20171102T181014Z
UID:970-1511701200-1511715600@avrnetwork.com
SUMMARY:Annual Kinsmen & Kinette Christmas Miracle Radiothon
DESCRIPTION:Live Show; 2-6pm at our Kentville studio lobby!\nWith guests and live entertainment\, raising funds for less fortunate children in Kings County & beyond.\nToll free number: 1-800-565-5113 \n
URL:https://avrnetwork.com/event/annual-kinsmen-kinette-christmas-miracle-radiothon/
END:VEVENT
END:VCALENDAR