BEGIN:VCALENDAR
VERSION:2.0
PRODID:-//AVR - ECPv4.6.26//NONSGML v1.0//EN
CALSCALE:GREGORIAN
METHOD:PUBLISH
X-WR-CALNAME:AVR
X-ORIGINAL-URL:https://avrnetwork.com
X-WR-CALDESC:Events for AVR
BEGIN:VEVENT
DTSTART;TZID=America/Halifax:20170814T050000
DTEND;TZID=America/Halifax:20170819T200000
DTSTAMP:20260421T081626
CREATED:20170724T163959Z
LAST-MODIFIED:20170724T163959Z
UID:789-1502686800-1503172800@avrnetwork.com
SUMMARY:Annapolis Valley Exhibition
DESCRIPTION:Join us at the Annapolis Valley Exhibition in Lawrencetown; August 14th – 19th!\nCheck out ALL things exhibition here:\nhttp://www.annapolisvalleyexhibition.com/# \n
URL:https://avrnetwork.com/event/annapolis-valley-exhibition/
END:VEVENT
END:VCALENDAR